BEGIN:VCALENDAR
VERSION:2.0
PRODID:-//Neerby//EN
CALSCALE:GREGORIAN
METHOD:PUBLISH
BEGIN:VEVENT
UID:neerby-event-22384@neerby.io
DTSTAMP:20260424T033646Z
DTSTART:20260721T190000
DTEND:20260721T210000
SUMMARY:English Paper Piecing
DESCRIPTION:Learn how to do English Paper Piecing\, a fun method of sewing fabric pieces together to make small projects\, quilts\, and decorative items.\n\nCome and stitch with others who also enjoy making things with English Paper Piecing. If you are new to English Paper Piecing\, we will get you started! After that\, please select a personal EPP project to work on at each meeting.\n\nIn addition\, each month we will learn something new in EPP - pattern\, skill\, project\, etc...we are always sharing fun EPP ideas!\n\nYou will need to bring basic sewing supplies (scissors\, needle\, thread\, pins). If there is anything else you need to bring\, an email will be sent out about a week prior to class.\n\nAlso\, we love to see your Show & Tell of finished and ongoing projects of any crafty type!\n\nPlease be sure to register.
LOCATION:198 Jackson St\, Augusta\, MO\, 63332\, US\, 198 Jackson Street\, Augusta\, MO\, 63332
URL:https://neerby.io/event/22384
END:VEVENT
END:VCALENDAR