BEGIN:VCALENDAR
VERSION:2.0
PRODID:-//Neerby//EN
CALSCALE:GREGORIAN
METHOD:PUBLISH
BEGIN:VEVENT
UID:neerby-event-22385@neerby.io
DTSTAMP:20260424T032501Z
DTSTART:20260721T230000
DTEND:20260721T000000
SUMMARY:Beginner's Astrology Workshop
DESCRIPTION:Come learn the basics of astrology and discover your birth chart! Participants will learn the characteristics of their particular star signs\, read their horoscope\, hear a short instructional presentation about astrology\, and be given resources for further learning. If you're interested in finding out more about this fun tool for self reflection\, this program is for you!\n\nIn order to ensure full accuracy on your birth chart\, please bring or know your time and place of birth for this program.
LOCATION:2323 Elm Street\, St Charles\, MO\, 63301\, US\, 2323 Elm Street\, Saint Charles\, MO\, 63301
URL:https://neerby.io/event/22385
END:VEVENT
END:VCALENDAR