BEGIN:VCALENDAR
VERSION:2.0
PRODID:-//Neerby//EN
CALSCALE:GREGORIAN
METHOD:PUBLISH
BEGIN:VEVENT
UID:neerby-event-22400@neerby.io
DTSTAMP:20260424T034154Z
DTSTART:20260723T203000
DTEND:20260723T220000
SUMMARY:Teen Gaming: Tabletop Games - Pandemic
DESCRIPTION:Eat some snacks\, play some games\, make some friends!\n\nAt Tabletop Game Club\, teens and tweens can share their favorite game or learn a new one -- anything from board games to tabletop RPGs or miniatures games! Drop in games such as Chess\, Warhammer 40\,000\, and more are also welcome.\n\nThis month\, we will be learning the board game Pandemic.\n\n"From designer Matt Leacock\, Pandemic is a cooperative game of teamwork for two to four players. As members of an elite disease control team\, you must keep four deadly diseases at bay. Work together as you travel the globe to treat infections while collecting the cards you need to discover a cure for each disease. But the clock is ticking as outbreaks and epidemics fuel the spreading plagues. As a cooperative game\, players win or lose together. Only by working together can you keep the outbreaks in check and find the cures in time!" - Description from the publisher.
LOCATION:2323 Elm Street\, St Charles\, MO\, 63301\, US\, 2323 Elm Street\, Saint Charles\, MO\, 63301
URL:https://neerby.io/event/22400
END:VEVENT
END:VCALENDAR