BEGIN:VCALENDAR
VERSION:2.0
PRODID:-//Neerby//EN
CALSCALE:GREGORIAN
METHOD:PUBLISH
BEGIN:VEVENT
UID:neerby-event-22409@neerby.io
DTSTAMP:20260424T033529Z
DTSTART:20260424T090000
DTEND:20260424T170000
SUMMARY:The St. Louis Herb Society Herb Sale
DESCRIPTION:Shop more than 7\,000 herb plants\, representing more than 125 varieties. \nMembers of The St. Louis Herb Society will be on hand to share plant care tips and information about the Society. \nThursday\, April 23 | 5–7:30 p.m. Members-only shopping\nFriday\, April 24 | 9 a.m.–5 p.m.* \n*While supplies last\nSale takes place in west parking lot.
LOCATION:Missouri Botanical Garden\, 4344 Shaw Blvd. \, St. Louis\, MO\, 63110\, United States\, 4344 Shaw Boulevard\, St. Louis\, MO\, 63110
URL:https://neerby.io/event/22409
END:VEVENT
END:VCALENDAR