BEGIN:VCALENDAR
VERSION:2.0
PRODID:-//Neerby//EN
CALSCALE:GREGORIAN
METHOD:PUBLISH
BEGIN:VEVENT
UID:neerby-event-22411@neerby.io
DTSTAMP:20260424T093031Z
DTSTART:20260508T190000
DTEND:20260508T203000
SUMMARY:Big Team Bash
DESCRIPTION:An irresponsible number of improvisers enter the stage.\nNo script survives.\nThis is Big Team Bash.
LOCATION:St. Louis\, 3960 Chouteau Ave.\, St. Louis\, MO\, 63110\, United States\, 3960 Chouteau Avenue\, St. Louis\, MO\, 63110
URL:https://neerby.io/event/22411
END:VEVENT
END:VCALENDAR