BEGIN:VCALENDAR
VERSION:2.0
PRODID:-//Neerby//EN
CALSCALE:GREGORIAN
METHOD:PUBLISH
BEGIN:VEVENT
UID:neerby-event-22413@neerby.io
DTSTAMP:20260424T093348Z
DTSTART:20260508T210000
DTEND:20260508T223000
SUMMARY:TV Dinner: Sitcom Night with Basement Family
DESCRIPTION:Join Basement Family as they create a narrative 90’s-style sitcom episode in real time based on your suggestion. Will it be warped as hell because it’s Basement Family? I think we all know the answer to that.
LOCATION:St. Louis\, 3960 Chouteau Ave.\, St. Louis\, MO\, 63110\, United States\, 3960 Chouteau Avenue\, St. Louis\, MO\, 63110
URL:https://neerby.io/event/22413
END:VEVENT
END:VCALENDAR