BEGIN:VCALENDAR
VERSION:2.0
PRODID:-//Neerby//EN
CALSCALE:GREGORIAN
METHOD:PUBLISH
BEGIN:VEVENT
UID:neerby-event-22414@neerby.io
DTSTAMP:20260424T093031Z
DTSTART:20260701T203000
DTEND:20260701T213000
SUMMARY:Alphabet Soup
DESCRIPTION:Hang out in a safe space with like-minded LGBTQ+ folks and allies!
LOCATION:2323 Elm Street\, St Charles\, MO\, 63301\, US\, 2323 Elm Street\, Saint Charles\, MO\, 63301
URL:https://neerby.io/event/22414
END:VEVENT
END:VCALENDAR