BEGIN:VCALENDAR
VERSION:2.0
PRODID:-//Neerby//EN
CALSCALE:GREGORIAN
METHOD:PUBLISH
BEGIN:VEVENT
UID:neerby-event-22415@neerby.io
DTSTAMP:20260424T093359Z
DTSTART:20260706T230000
DTEND:20260706T000000
SUMMARY:Game On: Tenzi
DESCRIPTION:Grab a friend and come on down to the Library to learn a fun dice game! The winner of each round will win a special Summer Challenge prize!
LOCATION:2323 Elm Street\, St Charles\, MO\, 63301\, US\, 2323 Elm Street\, Saint Charles\, MO\, 63301
URL:https://neerby.io/event/22415
END:VEVENT
END:VCALENDAR