BEGIN:VCALENDAR
VERSION:2.0
PRODID:-//Neerby//EN
CALSCALE:GREGORIAN
METHOD:PUBLISH
BEGIN:VEVENT
UID:neerby-event-22416@neerby.io
DTSTAMP:20260424T093014Z
DTSTART:20260710T183000
DTEND:20260710T193000
SUMMARY:Let's Create: Fossils
DESCRIPTION:Art Exploration! Create cool fossils and dinosaur impressions using clay!
LOCATION:2323 Elm St\, St Charles\, MO\, 63301\, US\, 2323 Elm Street\, Saint Charles\, MO\, 63301
URL:https://neerby.io/event/22416
END:VEVENT
END:VCALENDAR