BEGIN:VCALENDAR
VERSION:2.0
PRODID:-//Neerby//EN
CALSCALE:GREGORIAN
METHOD:PUBLISH
BEGIN:VEVENT
UID:neerby-event-22417@neerby.io
DTSTAMP:20260424T093416Z
DTSTART:20260715T220000
DTEND:20260715T230000
SUMMARY:Teen Gaming: D&D Game Master's Guide
DESCRIPTION:Ever wanted to run your own Dungeons and Dragons Campaign? What exactly is happening behind the Game Master's Screen? How do you build a dungeon\, or balance a battle so it's fun\, but still challenging for your players?\n\nJoin us to find out!\n\nEvery other month\, we'll be tackling a piece of what means to be a game master for Dungeons and Dragons\, so grab your dice and lets get rolling!
LOCATION:2323 Elm St\, St Charles\, MO\, 63301\, US\, 2323 Elm Street\, Saint Charles\, MO\, 63301
URL:https://neerby.io/event/22417
END:VEVENT
END:VCALENDAR