BEGIN:VCALENDAR
VERSION:2.0
PRODID:-//Neerby//EN
CALSCALE:GREGORIAN
METHOD:PUBLISH
BEGIN:VEVENT
UID:neerby-event-22418@neerby.io
DTSTAMP:20260424T093014Z
DTSTART:20260716T190000
DTEND:20260716T200000
SUMMARY:Ready to Go Digital: Understanding AI
DESCRIPTION:You've heard of AI (artificial intelligence)\, you've seen AI in your Google search results\, you may have even used AI before\, but do you know how it works? Learn the good\, the bad\, and the basics of AI with the Library in this short class.
LOCATION:2323 Elm Street\, St Charles\, MO\, 63301\, US\, 2323 Elm Street\, Saint Charles\, MO\, 63301
URL:https://neerby.io/event/22418
END:VEVENT
END:VCALENDAR