BEGIN:VCALENDAR
VERSION:2.0
PRODID:-//Neerby//EN
CALSCALE:GREGORIAN
METHOD:PUBLISH
BEGIN:VEVENT
UID:neerby-event-22419@neerby.io
DTSTAMP:20260424T093226Z
DTSTART:20260722T193000
DTEND:20260722T203000
SUMMARY:Unearth a Story: Create Your Own Zen Garden
DESCRIPTION:Summer Challenge isn't just for kids! For the adults\, we have a fun Summer Challenge workshop where you'll create your very own miniature Zen garden.
LOCATION:2323 Elm Street\, St Charles\, MO\, 63301\, US\, 2323 Elm Street\, Saint Charles\, MO\, 63301
URL:https://neerby.io/event/22419
END:VEVENT
END:VCALENDAR