BEGIN:VCALENDAR
VERSION:2.0
PRODID:-//Neerby//EN
CALSCALE:GREGORIAN
METHOD:PUBLISH
BEGIN:VEVENT
UID:neerby-event-22423@neerby.io
DTSTAMP:20260424T093416Z
DTSTART:20260424T100000
DTEND:20260424T170000
SUMMARY:Arbor Day
DESCRIPTION:In collaboration with the Sustainability Center and Forest ReLeaf\, we’ll celebrate the importance of trees with a brief ceremony and hands-on learning about caring for our urban canopy. \nCome meet neighbors\, pick up practical tips on planting and maintenance\, and help us grow a greener Maryland Heights. The time will be announced closer to the date.
LOCATION:Parkwood Park\, 3145 Parkwood Lane\, Maryland Heights\, 63043\, United States\, 3145 Parkwood Lane\, Maryland Heights\, MO\, 63043
URL:https://neerby.io/event/22423
END:VEVENT
END:VCALENDAR