BEGIN:VCALENDAR
VERSION:2.0
PRODID:-//Neerby//EN
CALSCALE:GREGORIAN
METHOD:PUBLISH
BEGIN:VEVENT
UID:neerby-event-22438@neerby.io
DTSTAMP:20260424T093448Z
DTSTART:20260424T103000
DTEND:20260424T103000
SUMMARY:Copland's Third — American Sky
DESCRIPTION:Experience Aaron Copland’s quintessential American symphony\, a musical reflection on birds in flight\, and the extraordinary SLSO debut by the exceptional Venezuelan pianist Gabriela Montero.
LOCATION:Powell Symphony Hall\, 718 N. Grand Blvd\, St. Louis\, MO\, 63103\, United States\, 718 North Grand Boulevard\, St. Louis\, MO\, 63103
URL:https://neerby.io/event/22438
END:VEVENT
END:VCALENDAR