BEGIN:VCALENDAR
VERSION:2.0
PRODID:-//Neerby//EN
CALSCALE:GREGORIAN
METHOD:PUBLISH
BEGIN:VEVENT
UID:neerby-event-22440@neerby.io
DTSTAMP:20260424T151647Z
DTSTART:20260713T190000
DTEND:20260713T200000
SUMMARY:DIY Crafts: Glass Photo Pendants
DESCRIPTION:Preserve and honor special memories by turning photos into a glass cabochon necklace.\n\nNote that the photo will be cut to fit a 1 inch pendant. Please bring or print a copy of the photo you'd like to use. If you're unsure of how to resize your photo or print it\, you can email your photo to areel@stchlibrary.org for Anna to have ready for you at the program. If you need assistance making a copy of a developed photo\, you can ask a library worker at your local branch to help you scan or print a copy.
LOCATION:2750 State Hwy K\, O'Fallon\, MO\, 63368\, US\, 2750 State Highway K\, O'Fallon\, MO\, 63368
URL:https://neerby.io/event/22440
END:VEVENT
END:VCALENDAR