BEGIN:VCALENDAR
VERSION:2.0
PRODID:-//Neerby//EN
CALSCALE:GREGORIAN
METHOD:PUBLISH
BEGIN:VEVENT
UID:neerby-event-22441@neerby.io
DTSTAMP:20260424T153021Z
DTSTART:20260424T180000
DTEND:20260424T230000
SUMMARY:University of Missouri - St. Louis Men's Golf vs UIndy/Missouri S&T Winner - Championship Central
DESCRIPTION:University of Missouri - St. Louis Men's Golf vs UIndy/Missouri S&T Winner - Championship Central\nStreaming Video: https://glvcsn.com/
LOCATION:Peru\, Ind. / Rock Hollow GC\, 1 University Blvd\, St. Louis\, MO\, 63121
URL:https://neerby.io/event/22441
END:VEVENT
END:VCALENDAR