BEGIN:VCALENDAR
VERSION:2.0
PRODID:-//Neerby//EN
CALSCALE:GREGORIAN
METHOD:PUBLISH
BEGIN:VEVENT
UID:neerby-event-22442@neerby.io
DTSTAMP:20260424T151215Z
DTSTART:20260429T000000
DTEND:20260429
SUMMARY:Demi Lovato (Rescheduled from 4/29)
LOCATION:Little Caesars Arena\, 2645 Woodward Ave\, Detroit\, MI\, 48201
URL:https://neerby.io/event/22442
END:VEVENT
END:VCALENDAR