BEGIN:VCALENDAR
VERSION:2.0
PRODID:-//Neerby//EN
CALSCALE:GREGORIAN
METHOD:PUBLISH
BEGIN:VEVENT
UID:neerby-event-22450@neerby.io
DTSTAMP:20260424T205056Z
DTSTART:20260728T010000
DTEND:20260728
SUMMARY:Slayyyter
LOCATION:The Pageant\, 6161 Delmar Blvd\, St. Louis\, MO\, 63112
URL:https://neerby.io/event/22450
END:VEVENT
END:VCALENDAR