BEGIN:VCALENDAR
VERSION:2.0
PRODID:-//Neerby//EN
CALSCALE:GREGORIAN
METHOD:PUBLISH
BEGIN:VEVENT
UID:neerby-event-22452@neerby.io
DTSTAMP:20260424T204357Z
DTSTART:20260828T013000
DTEND:20260828
SUMMARY:The Red Clay Strays
LOCATION:Climate Pledge Arena\, 334 1st Ave N\, Seattle\, WA\, 98109
URL:https://neerby.io/event/22452
END:VEVENT
END:VCALENDAR