BEGIN:VCALENDAR
VERSION:2.0
PRODID:-//Neerby//EN
CALSCALE:GREGORIAN
METHOD:PUBLISH
BEGIN:VEVENT
UID:neerby-event-22454@neerby.io
DTSTAMP:20260424T205138Z
DTSTART:20260830T013000
DTEND:20260830
SUMMARY:The Red Clay Strays
LOCATION:Moda Center\, 1 N Center Court St\, Portland\, OR\, 97227
URL:https://neerby.io/event/22454
END:VEVENT
END:VCALENDAR