BEGIN:VCALENDAR
VERSION:2.0
PRODID:-//Neerby//EN
CALSCALE:GREGORIAN
METHOD:PUBLISH
BEGIN:VEVENT
UID:neerby-event-22467@neerby.io
DTSTAMP:20260425T040742Z
DTSTART:20260724T143000
DTEND:20260724T153000
SUMMARY:Swap Your Stuff: Scrapbooking Supplies
DESCRIPTION:In commemoration of America's 250th anniversary\, the St. Charles City-County Library is offering a wide variety of presentations and programs throughout the year\, highlighting local\, state\, and national events\, time periods\, and cultural moments.\n\nHas America's 250th birthday inspired you to unearth your own story? Are you planning to make a scrapbook to preserve your cherished memories and are looking to get started or are you an experienced scrapbooker looking for something new? Either way\, we've got you covered! Come to our scrapbooking supplies swap to share supplies and tips with your friends and neighbors!
LOCATION:2323 Elm Street\, St Charles\, MO\, 63301\, US\, 2323 Elm Street\, Saint Charles\, MO\, 63301
URL:https://neerby.io/event/22467
END:VEVENT
END:VCALENDAR