BEGIN:VCALENDAR
VERSION:2.0
PRODID:-//Neerby//EN
CALSCALE:GREGORIAN
METHOD:PUBLISH
BEGIN:VEVENT
UID:neerby-event-22469@neerby.io
DTSTAMP:20260425T040820Z
DTSTART:20260724T150000
DTEND:20260724T160000
SUMMARY:Preschool Party: Paw Patrol
DESCRIPTION:Celebrate the release of Paw Patrol: The Dino Movie at the library! Connect with other families\, meet new friends\, and explore through play. There will be a variety of open-ended play\, sensory\, and art materials and activities available.\n\nWe encourage parents/caregivers and children to interact together in this class\, so children must be accompanied by an adult.
LOCATION:2750 State Hwy K\, O'Fallon\, MO\, 63368\, US\, 2750 State Highway K\, O'Fallon\, MO\, 63368
URL:https://neerby.io/event/22469
END:VEVENT
END:VCALENDAR