BEGIN:VCALENDAR
VERSION:2.0
PRODID:-//Neerby//EN
CALSCALE:GREGORIAN
METHOD:PUBLISH
BEGIN:VEVENT
UID:neerby-event-22472@neerby.io
DTSTAMP:20260425T040735Z
DTSTART:20260724T190000
DTEND:20260724T203000
SUMMARY:Bunco
DESCRIPTION:Roll the Die! Bunco is an easy\, fast-paced dice game that requires no previous skill.
LOCATION:2760 McClay Rd\, St Charles\, MO\, 63303\, US\, 2760 McClay Road\, Saint Charles\, MO\, 63303
URL:https://neerby.io/event/22472
END:VEVENT
END:VCALENDAR