BEGIN:VCALENDAR
VERSION:2.0
PRODID:-//Neerby//EN
CALSCALE:GREGORIAN
METHOD:PUBLISH
BEGIN:VEVENT
UID:neerby-event-22473@neerby.io
DTSTAMP:20260425T040709Z
DTSTART:20260724T190000
DTEND:20260724T210000
SUMMARY:Free Kidsight Vision Screenings
DESCRIPTION:KidSight offers quick\, noninvasive vision screenings for children ages 6 months to 16 years old. Screenings are free of charge and search for common causes of childhood vision loss. At-risk children will be referred to eye doctors for examination and treatment.\n\nThis service will be touring the district this summer. Check the June and Julydates to view the full list of available dates.\n\nHappy and Healthy Life Spotlight
LOCATION:427 Spencer Rd\, St Peters\, MO\, 63376\, US\, 427 Spencer Road\, St. Peters\, MO\, 63376
URL:https://neerby.io/event/22473
END:VEVENT
END:VCALENDAR