BEGIN:VCALENDAR
VERSION:2.0
PRODID:-//Neerby//EN
CALSCALE:GREGORIAN
METHOD:PUBLISH
BEGIN:VEVENT
UID:neerby-event-22474@neerby.io
DTSTAMP:20260425T040617Z
DTSTART:20260724T200000
DTEND:20260724T210000
SUMMARY:Let's Create: Paint by Sticker Dinosaurs
DESCRIPTION:Create kid-friendly dinosaur mosaic art\, one sticker at a time. This is a mess-free activity\, similar to paint by number\, using stickers to create a colorful work of art. Choose from a variety of designs.\n\nRecommended for Ages 4-7.
LOCATION:2750 State Hwy K\, O'Fallon\, MO\, 63368\, US\, 2750 State Highway K\, O'Fallon\, MO\, 63368
URL:https://neerby.io/event/22474
END:VEVENT
END:VCALENDAR