BEGIN:VCALENDAR
VERSION:2.0
PRODID:-//Neerby//EN
CALSCALE:GREGORIAN
METHOD:PUBLISH
BEGIN:VEVENT
UID:neerby-event-22478@neerby.io
DTSTAMP:20260425T104750Z
DTSTART:20260509T190000
DTEND:20260509T203000
SUMMARY:We Are 40
DESCRIPTION:Alex turns 40 on May 4th. Janelle turns 40 two months before. Together they are Dammit\, Oscar! Join us for a retrospective of the early 21st century and improvisation.
LOCATION:St. Louis\, 3960 Chouteau Ave.\, St. Louis\, MO\, 63110\, United States\, 3960 Chouteau Avenue\, St. Louis\, MO\, 63110
URL:https://neerby.io/event/22478
END:VEVENT
END:VCALENDAR