BEGIN:VCALENDAR
VERSION:2.0
PRODID:-//Neerby//EN
CALSCALE:GREGORIAN
METHOD:PUBLISH
BEGIN:VEVENT
UID:neerby-event-22479@neerby.io
DTSTAMP:20260425T105345Z
DTSTART:20260509T190000
DTEND:20260509T203000
SUMMARY:Shoes Off: An All Asian Improv Show
DESCRIPTION:Shoes off\, welcoming you into our home of improv. Celebrate AAPI Heritage month with an ALL ASIAN Pacific Islander improvized show. Come and suport your local Asian and Pacific Islander artists!
LOCATION:St. Louis\, 3960 Chouteau Ave.\, St. Louis\, MO\, 63110\, United States\, 3960 Chouteau Avenue\, St. Louis\, MO\, 63110
URL:https://neerby.io/event/22479
END:VEVENT
END:VCALENDAR