BEGIN:VCALENDAR
VERSION:2.0
PRODID:-//Neerby//EN
CALSCALE:GREGORIAN
METHOD:PUBLISH
BEGIN:VEVENT
UID:neerby-event-22480@neerby.io
DTSTAMP:20260425T105448Z
DTSTART:20260509T210000
DTEND:20260509T223000
SUMMARY:80085 4 U
DESCRIPTION:To everyone who puts in a hard day’s work\, this show is for you. To everyone who relishes in the bizarre\, this show is for you. \nNo intermission (probably)\, no nudes (yet)\, lots of confessions (maybe even from you)\, one team (unless there are more). Come on out and get something off your chest. We’ll get something off ours\, too. \nWhether you’ve got em\, want em\, or haven’t thought about em\, this 80085 for you.
LOCATION:St. Louis\, 3960 Chouteau Ave.\, St. Louis\, MO\, 63110\, United States\, 3960 Chouteau Avenue\, St. Louis\, MO\, 63110
URL:https://neerby.io/event/22480
END:VEVENT
END:VCALENDAR