BEGIN:VCALENDAR
VERSION:2.0
PRODID:-//Neerby//EN
CALSCALE:GREGORIAN
METHOD:PUBLISH
BEGIN:VEVENT
UID:neerby-event-22481@neerby.io
DTSTAMP:20260425T105326Z
DTSTART:20260509T210000
DTEND:20260509T223000
SUMMARY:Grandma’s Den Hang with Mansplain
DESCRIPTION:Just some femmes and a them channeling their dude bro alter egos hanging with their pals and doing some sweet long form improv.
LOCATION:St. Louis\, 3960 Chouteau Ave.\, St. Louis\, MO\, 63110\, United States\, 3960 Chouteau Avenue\, St. Louis\, MO\, 63110
URL:https://neerby.io/event/22481
END:VEVENT
END:VCALENDAR