BEGIN:VCALENDAR
VERSION:2.0
PRODID:-//Neerby//EN
CALSCALE:GREGORIAN
METHOD:PUBLISH
BEGIN:VEVENT
UID:neerby-event-22486@neerby.io
DTSTAMP:20260425T104732Z
DTSTART:20260425T090000
DTEND:20260425T150000
SUMMARY:11th Annual Country Craft Festival at Historic Sappington Park
DESCRIPTION:Historic Sappington House is sponsoring the 1th Annual Country Craft Festival on Saturday and Sunday\, April 25 and 26\, 2026\, daily from 9:00 a.m. to 3:00 p.m. \nThe festival features garden and farmhouse décor\, artwork\, charcuterie boards\, 3-D items\, jewelry and many things that resist categorizing – originals handmade by creative vendors. Local authors will be signing and selling their new books. \nDelicious food will be sold at The Barn restaurant. Live music performed by the Friends of Old-Time and by the Lindbergh Middle School Fiddlers will entertain shoppers as they explore an assortment of  colorful booths. \nComplimentary first-floor museum tours will be conducted. \nThe entrance fee to the festival is free\, as is convenient parking south of the pond off Reco Avenue and across the street at Crestwood Elementary School.
LOCATION:Historic Sappington House\, 1015 S. Sappington Road\, Crestwood\, MO\, 63126\, United States\, 1015 South Sappington Road\, St. Louis\, MO\, 63126
URL:https://neerby.io/event/22486
END:VEVENT
END:VCALENDAR