BEGIN:VCALENDAR
VERSION:2.0
PRODID:-//Neerby//EN
CALSCALE:GREGORIAN
METHOD:PUBLISH
BEGIN:VEVENT
UID:neerby-event-22490@neerby.io
DTSTAMP:20260425T104745Z
DTSTART:20260425T100000
DTEND:20260425T110000
SUMMARY:Citygarden Storytime with SLPL
DESCRIPTION:Come enjoy stories\, songs\, rhymes\, and fun with the Saint Louis Public Library at Citygarden! Afterwards\, explore the sculptures and lush landscape while discovering the beauty of Citygarden. \nStorytime will be held in the grassy area at the center of the park between two visitor favorites Yoshitomo Nara’s White Ghost and Jan Kalab’s Mechanical Planet.
LOCATION:Citygarden\, 801 Market St.\, St. Louis\, MO\, 63101\, United States\, 801 Market Street\, St. Louis\, MO\, 63101
URL:https://neerby.io/event/22490
END:VEVENT
END:VCALENDAR