BEGIN:VCALENDAR
VERSION:2.0
PRODID:-//Neerby//EN
CALSCALE:GREGORIAN
METHOD:PUBLISH
BEGIN:VEVENT
UID:neerby-event-22495@neerby.io
DTSTAMP:20260425T104802Z
DTSTART:20260425T100000
DTEND:20260425T160000
SUMMARY:Spring Artisan Market
DESCRIPTION:Come out to Highland High School and shop from over 120+ local artists\, crafters\, and makers! \nShop early for a chance at door prizes! \nCoffee truck\, dirty sodas\, cookie camper\, mini donut truck\, Italian ice\, and fresh kettle corn too!
LOCATION:Highland High School\, 12760 Troxler Ave\, Highland\, IL\, 62249\, United States\, 12760 Troxler Avenue\, Highland\, IL\, 62249
URL:https://neerby.io/event/22495
END:VEVENT
END:VCALENDAR