BEGIN:VCALENDAR
VERSION:2.0
PRODID:-//Neerby//EN
CALSCALE:GREGORIAN
METHOD:PUBLISH
BEGIN:VEVENT
UID:neerby-event-22510@neerby.io
DTSTAMP:20260425T160218Z
DTSTART:20260428T200000
DTEND:20260428T210000
SUMMARY:Professional Success Workshop Series -Networking
DESCRIPTION:Come learn about what your network is\, how to grow your network\, and how to utilize it in your career preparation and development. \n---\nEvent Details: https://tritonconnect.umsl.edu/rsvp?id=385216
LOCATION:Online Event\, 1 University Blvd\, St. Louis\, MO\, 63121
URL:https://neerby.io/event/22510
END:VEVENT
END:VCALENDAR