BEGIN:VCALENDAR
VERSION:2.0
PRODID:-//Neerby//EN
CALSCALE:GREGORIAN
METHOD:PUBLISH
BEGIN:VEVENT
UID:neerby-event-22512@neerby.io
DTSTAMP:20260425T222702Z
DTSTART:20260426T150000
DTEND:20260426T160000
SUMMARY:LIFE SCIENCE CLASSROOM: Amphibian Feeding
DESCRIPTION:Come visit us on Fridays and Sundays to learn about our amphibians and their diets in the Life Science Lab! \nLearn more about our Life Science Lab!
LOCATION:St. Louis Science Center\, 5050 Oakland Ave\, St. Louis\, MO\, 63110
URL:https://neerby.io/event/22512
END:VEVENT
END:VCALENDAR