BEGIN:VCALENDAR
VERSION:2.0
PRODID:-//Neerby//EN
CALSCALE:GREGORIAN
METHOD:PUBLISH
BEGIN:VEVENT
UID:neerby-event-22520@neerby.io
DTSTAMP:20260425T222459Z
DTSTART:20260513T230000
DTEND:20260513T003000
SUMMARY:DIY Craft: Pipe Cleaner Flowers
DESCRIPTION:*Please note: This is a repeat of the same event hosted 3/24/2026*\n\nGet ready for the start of spring by creating some beautiful flowers with pipe cleaners!
LOCATION:1000 Kisker Rd\, St Charles\, MO\, 63304\, US\, 1000 Kisker Road\, Saint Charles\, MO\, 63304
URL:https://neerby.io/event/22520
END:VEVENT
END:VCALENDAR