BEGIN:VCALENDAR
VERSION:2.0
PRODID:-//Neerby//EN
CALSCALE:GREGORIAN
METHOD:PUBLISH
BEGIN:VEVENT
UID:neerby-event-22521@neerby.io
DTSTAMP:20260425T222419Z
DTSTART:20260425T110000
DTEND:20260425T150000
SUMMARY:King of Beers Tour
DESCRIPTION:Looking for the ultimate Anheuser-Busch experience? The King of Beers Tour allows guests to walk in the shoes of an Anheuser-Busch brewmaster. \nThe four-hour tour stops at exclusive locations such as the fermentation cellars\, beechwood aging cellars\, finishing cellars\, historic brewhouse and Clydesdale stables\, followed by lunch in the Anheuser-Busch Biergarten. \nNote: The tour includes three-plus miles of walking with drastic temperature changes\, and it’s only available to those 21 and older.
LOCATION:Anheuser-Busch Brewery Biergarten\, 12th and Lynch Streets\, St. Louis\, Missouri\, 63118\, 1200 Lynch Street\, St. Louis\, MO\, 63118
URL:https://neerby.io/event/22521
END:VEVENT
END:VCALENDAR