BEGIN:VCALENDAR
VERSION:2.0
PRODID:-//Neerby//EN
CALSCALE:GREGORIAN
METHOD:PUBLISH
BEGIN:VEVENT
UID:neerby-event-22523@neerby.io
DTSTAMP:20260425T222532Z
DTSTART:20260426T080000
DTEND:20260426T110000
SUMMARY:Mina Sauk Falls at Taum Sauk State Park
DESCRIPTION:Saint Louis Singles Who Love to Hike\nHello\, we will meet at the entrance of Mina Sauk Falls Trailhead and 8am\nThis trail is in the St. Francois Mountains side.
LOCATION:Saint Louis Singles Who Love to Hike\, Saint Louis\, MO
URL:https://neerby.io/event/22523
END:VEVENT
END:VCALENDAR