BEGIN:VCALENDAR
VERSION:2.0
PRODID:-//Neerby//EN
CALSCALE:GREGORIAN
METHOD:PUBLISH
BEGIN:VEVENT
UID:neerby-event-22536@neerby.io
DTSTAMP:20260426T042959Z
DTSTART:20260701T160000
DTEND:20260701T164500
SUMMARY:Growing Minds: Oceans
DESCRIPTION:What lives in the ocean? Come explore the ocean with crafts and activities.\n\nThis class is limited to 20 registrants\, please register each child attending. Parents and/or guardians do not need to register.\n\nRecommended for Ages 3-6.\n\nThe 9:30 and 11 am sessions are the same\, so please only register for one session.
LOCATION:1300 North Main St\, O'Fallon\, MO\, 63366\, US\, 1300 North Main Street\, O'Fallon\, MO\, 63366
URL:https://neerby.io/event/22536
END:VEVENT
END:VCALENDAR