BEGIN:VCALENDAR
VERSION:2.0
PRODID:-//Neerby//EN
CALSCALE:GREGORIAN
METHOD:PUBLISH
BEGIN:VEVENT
UID:neerby-event-22537@neerby.io
DTSTAMP:20260426T042933Z
DTSTART:20260701T230000
DTEND:20260701T000000
SUMMARY:Let's Create: Underwater Crafts
DESCRIPTION:Join us for fun underwater themed crafts! We will be creating a popsicle stick crab\, a paper plate fish\, and a paper bowl jellyfish.\n\nRecommended for grades K-5. Not recommended for children younger than 5.\n\nPlease register each child attending individually\, including siblings. Parents and guardians do not need to register.
LOCATION:1300 North Main St\, O'Fallon\, MO\, 63366\, US\, 1300 North Main Street\, O'Fallon\, MO\, 63366
URL:https://neerby.io/event/22537
END:VEVENT
END:VCALENDAR