BEGIN:VCALENDAR
VERSION:2.0
PRODID:-//Neerby//EN
CALSCALE:GREGORIAN
METHOD:PUBLISH
BEGIN:VEVENT
UID:neerby-event-22538@neerby.io
DTSTAMP:20260426T042959Z
DTSTART:20260702T150000
DTEND:20260702T160000
SUMMARY:Patriotic Mason Jars
DESCRIPTION:Join us in celebrating America's 250th anniversary and create patriotic mason jars! This program is recommended for adults.
LOCATION:1300 North Main St\, O'Fallon\, MO\, 63366\, US\, 1300 North Main Street\, O'Fallon\, MO\, 63366
URL:https://neerby.io/event/22538
END:VEVENT
END:VCALENDAR