BEGIN:VCALENDAR
VERSION:2.0
PRODID:-//Neerby//EN
CALSCALE:GREGORIAN
METHOD:PUBLISH
BEGIN:VEVENT
UID:neerby-event-22540@neerby.io
DTSTAMP:20260426T043010Z
DTSTART:20260706T150000
DTEND:20260706T153000
SUMMARY:Baby Playdate
LOCATION:1300 North Main St\, O'Fallon\, MO\, 63366\, US\, 1300 North Main Street\, O'Fallon\, MO\, 63366
URL:https://neerby.io/event/22540
END:VEVENT
END:VCALENDAR