BEGIN:VCALENDAR
VERSION:2.0
PRODID:-//Neerby//EN
CALSCALE:GREGORIAN
METHOD:PUBLISH
BEGIN:VEVENT
UID:neerby-event-22541@neerby.io
DTSTAMP:20260426T042933Z
DTSTART:20260706T223000
DTEND:20260706T233000
SUMMARY:Game On: Chess Club
DESCRIPTION:Drop in for a casual evening of chess! We’ll provide the boards and space—you bring the strategy. All skill levels are welcome. No instruction provided.\n\nPlease only register kids who are attending. Adults do not need to register.\n\nRecommended for children ages 8-12.
LOCATION:1300 North Main St\, O'Fallon\, MO\, 63366\, US\, 1300 North Main Street\, O'Fallon\, MO\, 63366
URL:https://neerby.io/event/22541
END:VEVENT
END:VCALENDAR