BEGIN:VCALENDAR
VERSION:2.0
PRODID:-//Neerby//EN
CALSCALE:GREGORIAN
METHOD:PUBLISH
BEGIN:VEVENT
UID:neerby-event-22545@neerby.io
DTSTAMP:20260426T043010Z
DTSTART:20260709T150000
DTEND:20260709T160000
SUMMARY:Senior Social Hour
DESCRIPTION:Join us for casual conversation about topics of interest and connect with fellow seniors from the community.\n\nLight refreshments provided.
LOCATION:1300 North Main St\, O'Fallon\, MO\, 63366\, US\, 1300 North Main Street\, O'Fallon\, MO\, 63366
URL:https://neerby.io/event/22545
END:VEVENT
END:VCALENDAR