BEGIN:VCALENDAR
VERSION:2.0
PRODID:-//Neerby//EN
CALSCALE:GREGORIAN
METHOD:PUBLISH
BEGIN:VEVENT
UID:neerby-event-22551@neerby.io
DTSTAMP:20260426T042934Z
DTSTART:20260725T160000
DTEND:20260725T170000
SUMMARY:Out and About
DESCRIPTION:Join Out and About for an hour of easy crafting and chatting with LGBTQIA+ people and allies in your community! Come ready to talk about fun pop culture topics and make something fun to take home with you! This month we will be trying origami! This group is designed for all queer people of any gender expression and allies of the community. This group meets once a month.
LOCATION:2323 Elm Street\, St Charles\, MO\, 63301\, US\, 2323 Elm Street\, Saint Charles\, MO\, 63301
URL:https://neerby.io/event/22551
END:VEVENT
END:VCALENDAR