BEGIN:VCALENDAR
VERSION:2.0
PRODID:-//Neerby//EN
CALSCALE:GREGORIAN
METHOD:PUBLISH
BEGIN:VEVENT
UID:neerby-event-22552@neerby.io
DTSTAMP:20260426T043010Z
DTSTART:20260725T190000
DTEND:20260725T200000
SUMMARY:Hold for Grace Program
LOCATION:1200 Corporate Pkwy\, Wentzville\, MO\, 63385\, US\, 1200 Corporate Parkway\, Wentzville\, MO\, 63385
URL:https://neerby.io/event/22552
END:VEVENT
END:VCALENDAR