BEGIN:VCALENDAR
VERSION:2.0
PRODID:-//Neerby//EN
CALSCALE:GREGORIAN
METHOD:PUBLISH
BEGIN:VEVENT
UID:neerby-event-22555@neerby.io
DTSTAMP:20260426T042852Z
DTSTART:20260725T200000
DTEND:20260725T210000
SUMMARY:Tweens Read: Mark Twain Nominees
DESCRIPTION:Pick up copies of this month's book\, "Popcorn" by Rob Harrell\, at the Youth Services desk at the Middendorf-Kredell branch.\n\nJoin us for a monthly book club featuring the 2026-2027 Mark Twain Award Nominees. We’ll read a different nominee each month and come together to share thoughts\, opinions\, and favorite moments!\n\nMore about this month's book:\n\nAndrew's just trying to make it through Picture Day\, which is easier said than done when it seems like the whole world is out to get him--from a bully to a science experiment gone wrong to a someone else's juice snot (don't ask). But as Andrew goes through the school day\, and as one thing after another goes wrong\, that little kernel of worry in his stomach is getting hotter and hotter\, until it threatens to pop and turn into a public panic attack\, his worst fear. He tries to keep his anxiety at bay\, but the news that his grandmother with Alzheimer's is missing is too much.
LOCATION:2750 State Hwy K\, O'Fallon\, MO\, 63368\, US\, 2750 State Highway K\, O'Fallon\, MO\, 63368
URL:https://neerby.io/event/22555
END:VEVENT
END:VCALENDAR