BEGIN:VCALENDAR
VERSION:2.0
PRODID:-//Neerby//EN
CALSCALE:GREGORIAN
METHOD:PUBLISH
BEGIN:VEVENT
UID:neerby-event-5881@neerby.io
DTSTAMP:20260423T041838Z
DTSTART:20260916T121500
DTEND:20260916
SUMMARY:St. Louis Cardinals vs. San Francisco Giants
DESCRIPTION:St. Louis Cardinals home game at Busch Stadium.
LOCATION:Busch Stadium\, 700 Clark Ave\, St. Louis\, MO\, 63102
URL:https://neerby.io/event/5881
END:VEVENT
END:VCALENDAR