BEGIN:VCALENDAR
VERSION:2.0
PRODID:-//Neerby//EN
CALSCALE:GREGORIAN
METHOD:PUBLISH
BEGIN:VEVENT
UID:neerby-event-5884@neerby.io
DTSTAMP:20260425T040616Z
DTSTART:20260920T131500
DTEND:20260920
SUMMARY:St. Louis Cardinals vs. Washington Nationals
DESCRIPTION:St. Louis Cardinals home game at Busch Stadium.
LOCATION:Busch Stadium\, 700 Clark Ave\, St. Louis\, MO\, 63102
URL:https://neerby.io/event/5884
END:VEVENT
END:VCALENDAR