BEGIN:VCALENDAR
VERSION:2.0
PRODID:-//Neerby//EN
CALSCALE:GREGORIAN
METHOD:PUBLISH
BEGIN:VEVENT
UID:neerby-event-5952@neerby.io
DTSTAMP:20260422T030549Z
DTSTART:20260912T132000
DTEND:20260912
SUMMARY:Chicago Cubs vs. Pittsburgh Pirates
DESCRIPTION:Chicago Cubs home game at Wrigley Field.
LOCATION:Wrigley Field\, 1060 W Addison St\, Chicago\, IL\, 60613
URL:https://neerby.io/event/5952
END:VEVENT
END:VCALENDAR