BEGIN:VCALENDAR
VERSION:2.0
PRODID:-//Neerby//EN
CALSCALE:GREGORIAN
METHOD:PUBLISH
BEGIN:VEVENT
UID:neerby-event-5957@neerby.io
DTSTAMP:20260426T042928Z
DTSTART:20260922T184000
DTEND:20260922
SUMMARY:Chicago Cubs vs. Miami Marlins
DESCRIPTION:Chicago Cubs home game at Wrigley Field.
LOCATION:Wrigley Field\, 1060 W Addison St\, Chicago\, IL\, 60613
URL:https://neerby.io/event/5957
END:VEVENT
END:VCALENDAR